BEGIN:VCALENDAR
VERSION:2.0
PRODID:-//Common Market - ECPv6.15.16//NONSGML v1.0//EN
CALSCALE:GREGORIAN
METHOD:PUBLISH
X-ORIGINAL-URL:https://www.commonmarket.coop
X-WR-CALDESC:Events for Common Market
REFRESH-INTERVAL;VALUE=DURATION:PT1H
X-Robots-Tag:noindex
X-PUBLISHED-TTL:PT1H
BEGIN:VTIMEZONE
TZID:America/New_York
BEGIN:DAYLIGHT
TZOFFSETFROM:-0500
TZOFFSETTO:-0400
TZNAME:EDT
DTSTART:20210314T070000
END:DAYLIGHT
BEGIN:STANDARD
TZOFFSETFROM:-0400
TZOFFSETTO:-0500
TZNAME:EST
DTSTART:20211107T060000
END:STANDARD
BEGIN:DAYLIGHT
TZOFFSETFROM:-0500
TZOFFSETTO:-0400
TZNAME:EDT
DTSTART:20220313T070000
END:DAYLIGHT
BEGIN:STANDARD
TZOFFSETFROM:-0400
TZOFFSETTO:-0500
TZNAME:EST
DTSTART:20221106T060000
END:STANDARD
BEGIN:DAYLIGHT
TZOFFSETFROM:-0500
TZOFFSETTO:-0400
TZNAME:EDT
DTSTART:20230312T070000
END:DAYLIGHT
BEGIN:STANDARD
TZOFFSETFROM:-0400
TZOFFSETTO:-0500
TZNAME:EST
DTSTART:20231105T060000
END:STANDARD
END:VTIMEZONE
BEGIN:VEVENT
DTSTART;TZID=America/New_York:20220422T160000
DTEND;TZID=America/New_York:20220422T200000
DTSTAMP:20260419T183640
CREATED:20220420T175209Z
LAST-MODIFIED:20220420T175415Z
UID:10000413-1650643200-1650657600@www.commonmarket.coop
SUMMARY:Earth Day at Linganore Winery!
DESCRIPTION:Join the Common Market at a fun and educational Earth Day event!  Stop by our booth to look at some eco-friendly ways to shop and the Co-op and pick up a coupon for your next shopping trip! \nSustainability is at the heart of Linganore Winery’s business. This Earth Day\, join them for an inside look at their eco-friendly practices with a winery tour led by Vice President and Executive Winemaker\, Anthony Aellen. Afterward\, spend the evening sipping on your favorite wine while learning and shopping from local vendors who pride themselves on sustainability. \nThis event is free to attend\, however\, sign-ups are encouraged for the tour portion of the event. Tours will begin at 4:00 PM\, 5:30 PM\, and 7:00 PM. Vendors will be on-site from 4-8 PM. \n\nSIGN UP FOR TOURS HERE\n\n\nOUR FEATURED VENDORS:\nCommon Market CoOp\nWinding Root Farm\nHon’s Honey\nGive Bees a Chance\nFrederick County Recycling 
URL:https://www.commonmarket.coop/classes-events/earth-day-at-linganore-winery/
LOCATION:Linganore Winery\, 13601 Glissans Mill Road\, Mt. Airy\, MD\, 21704\, United States
END:VEVENT
END:VCALENDAR