BEGIN:VCALENDAR
VERSION:2.0
PRODID:-//Common Market - ECPv6.15.16//NONSGML v1.0//EN
CALSCALE:GREGORIAN
METHOD:PUBLISH
X-ORIGINAL-URL:https://www.commonmarket.coop
X-WR-CALDESC:Events for Common Market
REFRESH-INTERVAL;VALUE=DURATION:PT1H
X-Robots-Tag:noindex
X-PUBLISHED-TTL:PT1H
BEGIN:VTIMEZONE
TZID:America/New_York
BEGIN:DAYLIGHT
TZOFFSETFROM:-0500
TZOFFSETTO:-0400
TZNAME:EDT
DTSTART:20200308T070000
END:DAYLIGHT
BEGIN:STANDARD
TZOFFSETFROM:-0400
TZOFFSETTO:-0500
TZNAME:EST
DTSTART:20201101T060000
END:STANDARD
BEGIN:DAYLIGHT
TZOFFSETFROM:-0500
TZOFFSETTO:-0400
TZNAME:EDT
DTSTART:20210314T070000
END:DAYLIGHT
BEGIN:STANDARD
TZOFFSETFROM:-0400
TZOFFSETTO:-0500
TZNAME:EST
DTSTART:20211107T060000
END:STANDARD
BEGIN:DAYLIGHT
TZOFFSETFROM:-0500
TZOFFSETTO:-0400
TZNAME:EDT
DTSTART:20220313T070000
END:DAYLIGHT
BEGIN:STANDARD
TZOFFSETFROM:-0400
TZOFFSETTO:-0500
TZNAME:EST
DTSTART:20221106T060000
END:STANDARD
BEGIN:DAYLIGHT
TZOFFSETFROM:-0500
TZOFFSETTO:-0400
TZNAME:EDT
DTSTART:20230312T070000
END:DAYLIGHT
BEGIN:STANDARD
TZOFFSETFROM:-0400
TZOFFSETTO:-0500
TZNAME:EST
DTSTART:20231105T060000
END:STANDARD
END:VTIMEZONE
BEGIN:VEVENT
DTSTART;TZID=America/New_York:20221011T180000
DTEND;TZID=America/New_York:20221011T193000
DTSTAMP:20260423T121754
CREATED:20220607T182750Z
LAST-MODIFIED:20220607T192648Z
UID:10000430-1665511200-1665516600@www.commonmarket.coop
SUMMARY:Fox Haven Garden Workshop & Tea Tasting: Culinary Healers [Off-Site]
DESCRIPTION:We hope you can join us as we tour the Fox Haven garden and enjoy a tea tasting with Ashley Hoffman. \nIn this class we will explore some culinary Healers: Sage\, Thyme\, Oregano\, Rosemary\, Mint. They don’t just make our food taste good\, they are some of our most powerful herbal allies! \nAshley Hoffman was born and raised in Frederick County and brings her passion for this land to her work at Fox Haven. She is an herbalist who advocates for accessibility in healthcare and herbalism. Through her classes and garden tours\, she hopes to inspire students and visitors of Fox Haven to create positive relationships with their own health\, the earth and one another. Ashley is also an artist focused in photography and mixed media. Within her personal work\, she creates a dialogue for important social and environmental issues. At Fox Haven\, you’ll see her creativity in the posters and promotional materials for classes and events.
URL:https://www.commonmarket.coop/classes-events/fox-haven-garden-tour-and-tea-tasting-culinary-healers/
LOCATION:Fox Haven Farm\, 3630 Poffenberger Road\, Jefferson\, MD\, 21755\, United States
CATEGORIES:Backyard Agriculture,Cooking,Health & Wellness,New!,Tasting
ATTACH;FMTTYPE=image/webp:https://www.commonmarket.coop/wp-content/uploads/2022/06/fox-haven-garden-tour.webp
END:VEVENT
BEGIN:VEVENT
DTSTART;TZID=America/New_York:20220920T180000
DTEND;TZID=America/New_York:20220920T193000
DTSTAMP:20260423T121754
CREATED:20220607T183048Z
LAST-MODIFIED:20220909T190832Z
UID:10000437-1663696800-1663702200@www.commonmarket.coop
SUMMARY:Class Cancelled. Let’s Talk Mental Health- in the Garden! [Off-Site] Garden Workshop & Tea Tasting
DESCRIPTION:Unfortunately this class had to be cancelled. Be sure to check our events calendar in the spring as this class will be offered again!  \nEnjoy a tour of Fox Haven’s herb garden and learn about the herbs that soothe our nerves and lift our spirits! Specifically Lemon balm\, St. Johns Wort\, Passionflower\, Motherwort\, Yarrow\, and Hops.  This experience is perfect for anyone with an interest in practical gardening or herbalism. \nParticipants are welcome to arrive early to relax and enjoy the land! \nAshley Hoffman was born and raised in Frederick County and brings her passion for this land to her work at Fox Haven. She is an herbalist who advocates for accessibility in healthcare and herbalism. Through her classes and garden tours\, she hopes to inspire students and visitors of Fox Haven to create positive relationships with their own health\, the earth and one another. Ashley is also an artist focused in photography and mixed media. Within her personal work\, she creates a dialogue for important social and environmental issues. At Fox Haven\, you’ll see her creativity in the posters and promotional materials for classes and events.
URL:https://www.commonmarket.coop/classes-events/lets-talk-mental-health-in-the-garden-off-site/
LOCATION:Fox Haven Farm\, 3630 Poffenberger Road\, Jefferson\, MD\, 21755\, United States
CATEGORIES:Health & Wellness,Tasting
ATTACH;FMTTYPE=image/webp:https://www.commonmarket.coop/wp-content/uploads/2022/06/fox-haven-garden-tour.webp
END:VEVENT
BEGIN:VEVENT
DTSTART;TZID=America/New_York:20220824T180000
DTEND;TZID=America/New_York:20220824T193000
DTSTAMP:20260423T121754
CREATED:20220607T182017Z
LAST-MODIFIED:20220815T162904Z
UID:10000436-1661364000-1661369400@www.commonmarket.coop
SUMMARY:Fox Haven Garden Workshop & Tea Tasting: Endocrine System [Off-Site]
DESCRIPTION:Seeking homeostasis? We will talk about herbs that support the endocrine system. \nTour the Garden and enjoy tea tasting with Ashley and learn about the plants that are ripe for harvest. From the ferny plant that made Absinthe to the root that made the first marshmallow to the flower that stops bleeding – we’ll tour the stories and senses that fill our garden. Participants are welcome to arrive early and enjoy the land before class. \nAshley Hoffman was born and raised in Frederick County and brings her passion for this land to her work at Fox Haven. She is an herbalist who advocates for accessibility in healthcare and herbalism. Through her classes and garden tours\, she hopes to inspire students and visitors of Fox Haven to create positive relationships with their own health\, the earth and one another. Ashley is also an artist focused in photography and mixed media. Within her personal work\, she creates a dialogue for important social and environmental issues. At Fox Haven\, you’ll see her creativity in the posters and promotional materials for classes and events.
URL:https://www.commonmarket.coop/classes-events/fox-haven-garden-tour-and-tea-tasting-endocrine-system-off-site/
LOCATION:Fox Haven Farm\, 3630 Poffenberger Road\, Jefferson\, MD\, 21755\, United States
CATEGORIES:Beverages,Health & Wellness,New!,Tasting
ATTACH;FMTTYPE=image/webp:https://www.commonmarket.coop/wp-content/uploads/2022/06/fox-haven-garden-tour.webp
END:VEVENT
BEGIN:VEVENT
DTSTART;TZID=America/New_York:20220720T180000
DTEND;TZID=America/New_York:20220720T193000
DTSTAMP:20260423T121754
CREATED:20220504T183101Z
LAST-MODIFIED:20220718T200824Z
UID:10000419-1658340000-1658345400@www.commonmarket.coop
SUMMARY:[Moved to September]Let's Talk Mental Health- in the Garden! [Off-Site] Garden Workshop & Tea Tasting
DESCRIPTION:Enjoy a tour of Fox Haven’s herb garden and learn about the herbs that soothe our nerves and lift our spirits! Specifically Lemon balm\, St. Johns Wort\, Passionflower\, Motherwort\, Yarrow\, and Hops.  This experience is perfect for anyone with an interest in practical gardening or herbalism. \nAshley Hoffman was born and raised in Frederick County and brings her passion for this land to her work at Fox Haven. She is an herbalist who advocates for accessibility in healthcare and herbalism. Through her classes and garden tours\, she hopes to inspire students and visitors of Fox Haven to create positive relationships with their own health\, the earth and one another. Ashley is also an artist focused in photography and mixed media. Within her personal work\, she creates a dialogue for important social and environmental issues. At Fox Haven\, you’ll see her creativity in the posters and promotional materials for classes and events.
URL:https://www.commonmarket.coop/classes-events/lets-talk-mental-health-in-the-garden-offsite/
LOCATION:Fox Haven Farm\, 3630 Poffenberger Road\, Jefferson\, MD\, 21755\, United States
CATEGORIES:Backyard Agriculture,Health & Wellness,New!
ATTACH;FMTTYPE=image/jpeg:https://www.commonmarket.coop/wp-content/uploads/2019/12/tap-flo.jpg
END:VEVENT
BEGIN:VEVENT
DTSTART;TZID=America/New_York:20220601T180000
DTEND;TZID=America/New_York:20220601T193000
DTSTAMP:20260423T121754
CREATED:20220503T162906Z
LAST-MODIFIED:20220505T174004Z
UID:10000417-1654106400-1654111800@www.commonmarket.coop
SUMMARY:Plant Doctors! [Off-Site]
DESCRIPTION:Enjoy a tour of Fox Haven’s herb garden and learn about the medics of the garden! We’ll explore yarrow\, blackberry\, comfrey\, chamomile\, calendula\, and bee balm- your local plant doctors! This class will help you build an understanding of how these herbs work to heal our wounds and our guts.  This experience is perfect for anyone with an interest in gardening or herbalism. \nAshley Hoffman was born and raised in Frederick County and brings her passion for this land to her work at Fox Haven. She is an herbalist who advocates for accessibility in healthcare and herbalism. Through her classes and garden tours\, she hopes to inspire students and visitors of Fox Haven to create positive relationships with their own health\, the earth and one another. Ashley is also an artist focused in photography and mixed media. Within her personal work\, she creates a dialogue for important social and environmental issues. At Fox Haven\, you’ll see her creativity in the posters and promotional materials for classes and events.
URL:https://www.commonmarket.coop/classes-events/plant-doctors-off-site/
LOCATION:Fox Haven Farm\, 3630 Poffenberger Road\, Jefferson\, MD\, 21755\, United States
CATEGORIES:Backyard Agriculture,Health & Wellness
ATTACH;FMTTYPE=image/jpeg:https://www.commonmarket.coop/wp-content/uploads/2022/05/chamomile-flowers.jpg
END:VEVENT
BEGIN:VEVENT
DTSTART;TZID=America/New_York:20210630T180000
DTEND;TZID=America/New_York:20210630T200000
DTSTAMP:20260423T121754
CREATED:20210316T174755Z
LAST-MODIFIED:20210325T172845Z
UID:10000299-1625076000-1625083200@www.commonmarket.coop
SUMMARY:Herb Garden Tour and Tea Tasting at Fox Haven Farm [Offsite]
DESCRIPTION:Enjoy a tour of Fox Haven’s herb garden and learn about the plants that are ripe for a tea tasting. We’ll explore the stories and senses that fill the garden\, then\, harvest a few herbs to brew for a cup or two.  As we enjoy the different flavors and aromas\, we will discuss the energetics of the harvested plants so you can build an understanding of how the herbs are working in your body.  This experience is perfect for anyone with an interest in gardening or herbalism\, seeking to engage on a sensory level. \nAlecks Moss is a Frederick-local\, tea maker\, and energy intuitive. Following where the energy flowed\, she founded Little Wild Herbs\, an intuitive business and practice that savors the joy of personalized wellness by crafting intuitive herbal tea blends and handmade gifts for soul-aligned self-care. You may also recognize Alecks as a friendly face at Fox Haven\, working as the Marketing and Events Director for the herb farm and learning center. \nAshley Hoffman is another Frederick County native\, who brings her passion for this land\, to her work at Fox Haven. She is an artist-focused in photography\, mixed media\, and fiber. Within her work\, she creates a dialogue for important feminist and environmental issues. Ashley enjoys being part of the Fox Haven team\, expressing her creativity in the artwork in Fox Haven’s posters and promotional materials for classes and events. Ashley is also an aspiring herbalist and Fox Haven has served as a community and environment for her to cultivate her interest in herbalism.
URL:https://www.commonmarket.coop/classes-events/garden-tour-and-tea-tasting-at-fox-haven-farm-offsite/
LOCATION:Fox Haven Farm\, 3630 Poffenberger Road\, Jefferson\, MD\, 21755\, United States
CATEGORIES:Backyard Agriculture,Health & Wellness,Tasting
ATTACH;FMTTYPE=image/jpeg:https://www.commonmarket.coop/wp-content/uploads/2021/03/tea.jpg
END:VEVENT
END:VCALENDAR