BEGIN:VCALENDAR
VERSION:2.0
PRODID:-//Common Market - ECPv6.15.16//NONSGML v1.0//EN
CALSCALE:GREGORIAN
METHOD:PUBLISH
X-ORIGINAL-URL:https://www.commonmarket.coop
X-WR-CALDESC:Events for Common Market
REFRESH-INTERVAL;VALUE=DURATION:PT1H
X-Robots-Tag:noindex
X-PUBLISHED-TTL:PT1H
BEGIN:VTIMEZONE
TZID:America/New_York
BEGIN:DAYLIGHT
TZOFFSETFROM:-0500
TZOFFSETTO:-0400
TZNAME:EDT
DTSTART:20190310T070000
END:DAYLIGHT
BEGIN:STANDARD
TZOFFSETFROM:-0400
TZOFFSETTO:-0500
TZNAME:EST
DTSTART:20191103T060000
END:STANDARD
BEGIN:DAYLIGHT
TZOFFSETFROM:-0500
TZOFFSETTO:-0400
TZNAME:EDT
DTSTART:20200308T070000
END:DAYLIGHT
BEGIN:STANDARD
TZOFFSETFROM:-0400
TZOFFSETTO:-0500
TZNAME:EST
DTSTART:20201101T060000
END:STANDARD
BEGIN:DAYLIGHT
TZOFFSETFROM:-0500
TZOFFSETTO:-0400
TZNAME:EDT
DTSTART:20210314T070000
END:DAYLIGHT
BEGIN:STANDARD
TZOFFSETFROM:-0400
TZOFFSETTO:-0500
TZNAME:EST
DTSTART:20211107T060000
END:STANDARD
END:VTIMEZONE
BEGIN:VEVENT
DTSTART;TZID=America/New_York:20201014T183000
DTEND;TZID=America/New_York:20201014T200000
DTSTAMP:20260423T162813
CREATED:20200327T191634Z
LAST-MODIFIED:20201012T170620Z
UID:10000231-1602700200-1602705600@www.commonmarket.coop
SUMMARY:Online! Introduction to Homeopathy
DESCRIPTION:The selection of the homeopathic remedy for either acute or chronic conditions is based on the individuality of the person and their unique symptoms. It requires knowledge of case taking as well as knowledge of the homeopathic materia medica. Homeopathic practitioners use minute amounts of natural substances (homeopathic remedies) to stimulate the body’s innate healing power to restore health. \nIn this session\, join professional homeopath Brendan Feeley to learn about the importance of symptom modalities in acute ailments\, how to approach the selection of the appropriate remedy to heal the person\, and a basic introduction to basic materia medica. \nThis workshop will be held through Zoom.  You will receive a class link and any handouts via email the day before the class is scheduled to occur. \nBrendan Feeley is a professional homeopath and has been in practice for over 25 years. He treats men\, women and children for mental\, emotional and physical trauma using his vast knowledge of the homeopathic materia medica and repertory. He is a Certified Classical Homeopath (CCH) and received his certification from the Council of Homeopathic Certification (https://www.homeopathicdirectory.com/)\, the highest certifying body for professional homeopaths in the USA. He holds a graduate degree in Jungian psychology and is a respected teacher at the Washington and Baltimore Jungian Society.
URL:https://www.commonmarket.coop/classes-events/homeopathy-for-acute-ailments/
LOCATION:5728 Buckeystown Pike B1\, Frederick\, MD\, 21704\, United States
CATEGORIES:Health & Wellness,New!
ATTACH;FMTTYPE=image/jpeg:https://www.commonmarket.coop/wp-content/uploads/2020/02/homopathy-picture.jpg
END:VEVENT
END:VCALENDAR