BEGIN:VCALENDAR
VERSION:2.0
PRODID:-//Common Market - ECPv6.15.16//NONSGML v1.0//EN
CALSCALE:GREGORIAN
METHOD:PUBLISH
X-ORIGINAL-URL:https://www.commonmarket.coop
X-WR-CALDESC:Events for Common Market
REFRESH-INTERVAL;VALUE=DURATION:PT1H
X-Robots-Tag:noindex
X-PUBLISHED-TTL:PT1H
BEGIN:VTIMEZONE
TZID:America/New_York
BEGIN:DAYLIGHT
TZOFFSETFROM:-0500
TZOFFSETTO:-0400
TZNAME:EDT
DTSTART:20240310T070000
END:DAYLIGHT
BEGIN:STANDARD
TZOFFSETFROM:-0400
TZOFFSETTO:-0500
TZNAME:EST
DTSTART:20241103T060000
END:STANDARD
BEGIN:DAYLIGHT
TZOFFSETFROM:-0500
TZOFFSETTO:-0400
TZNAME:EDT
DTSTART:20250309T070000
END:DAYLIGHT
BEGIN:STANDARD
TZOFFSETFROM:-0400
TZOFFSETTO:-0500
TZNAME:EST
DTSTART:20251102T060000
END:STANDARD
BEGIN:DAYLIGHT
TZOFFSETFROM:-0500
TZOFFSETTO:-0400
TZNAME:EDT
DTSTART:20260308T070000
END:DAYLIGHT
BEGIN:STANDARD
TZOFFSETFROM:-0400
TZOFFSETTO:-0500
TZNAME:EST
DTSTART:20261101T060000
END:STANDARD
BEGIN:DAYLIGHT
TZOFFSETFROM:-0500
TZOFFSETTO:-0400
TZNAME:EDT
DTSTART:20270314T070000
END:DAYLIGHT
BEGIN:STANDARD
TZOFFSETFROM:-0400
TZOFFSETTO:-0500
TZNAME:EST
DTSTART:20271107T060000
END:STANDARD
END:VTIMEZONE
BEGIN:VEVENT
DTSTART;TZID=America/New_York:20260110T140000
DTEND;TZID=America/New_York:20260110T160000
DTSTAMP:20260423T145336
CREATED:20251114T160941Z
LAST-MODIFIED:20251114T160941Z
UID:10003164-1768053600-1768060800@www.commonmarket.coop
SUMMARY:Winter Clothing Swap!
DESCRIPTION:Join us for another Winter Clothing Swap\, refresh your wardrobe while promoting eco-friendly practices!\nHere’s how it works:\n1. Bring Your Items: Sort through your closet and bring clean\, gently worn clothing and accessories\, including shoes in good condition. Please do not bring clothing with rips\, stains or pet hair. \n2. Swap and Discover: Browse through the items brought by fellow community members and take as many articles of clothing as you like! \nBy participating\, you’ll make a positive impact on the environment while connecting with your neighbors. Let’s come together to share\, reuse\, and celebrate our community’s commitment to sustainability. \n*Due to limited space please bring maximum two bags of clothing. Leftover clothing will be donated to the Frederick Rescue Mission. \nWe can’t wait to see you there!
URL:https://www.commonmarket.coop/classes-events/winter-clothing-swap-2/
LOCATION:Common Market – 7th Street\, 927 West 7th Street\, Frederick\, MD\, 21701\, United States
CATEGORIES:Community Building,Eco-Friendly,Environmental
ATTACH;FMTTYPE=image/png:https://www.commonmarket.coop/wp-content/uploads/2025/10/Clothing-Swap-Square.png
END:VEVENT
BEGIN:VEVENT
DTSTART;TZID=America/New_York:20250418T150000
DTEND;TZID=America/New_York:20250418T180000
DTSTAMP:20260423T145336
CREATED:20260109T163226Z
LAST-MODIFIED:20260109T163226Z
UID:10003198-1744988400-1744999200@www.commonmarket.coop
SUMMARY:Tons Of Textiles Recycling Event [BOTH STORE LOCATIONS]
DESCRIPTION:Join us for another massive textiles collection event! We’re aiming to collect *ten tons* of textiles — that’s more than the weight of an elephant! Help Frederick County reach this goal by donating your unwanted textiles\, including clothing\, shoes\, linens\, and more! Your contributions will be diverted from landfills and given a second life through recycling and reuse. \nOnce collected our contracted partner Helpsy will collect the items and sort them. Some items are then sold for resale or donation organizations. Other non usable items are sorted further\, non usable items can be remade into new clothes\, blown insulation and other similar products. Helpsy works to find buyers both domestic and international. To find out more check out their website: https://www.helpsy.com/ \nThe goal of this event is to keep worn textiles out of the landfill and support more mindful reuse. If you have clothing in good\, wearable condition and would like it to go directly into the hands of someone in need\, please consider donating to the Frederick Rescue Mission. A convenient drop-off bin is located behind Starbucks in the 7th Street parking lot. \nDrop off your textiles at either Common Market Co-op location and help us make an impact in our community. \n**Click here to review items we accept** 
URL:https://www.commonmarket.coop/classes-events/tons-of-textiles-recycling-event-both-store-locations/
LOCATION:Common Market – 7th Street\, 927 West 7th Street\, Frederick\, MD\, 21701\, United States
CATEGORIES:Eco-Friendly,Environmental
ATTACH;FMTTYPE=image/jpeg:https://www.commonmarket.coop/wp-content/uploads/2025/03/Thank-you-for-RECYCLING.jpg
END:VEVENT
END:VCALENDAR