BEGIN:VCALENDAR
VERSION:2.0
PRODID:-//Common Market - ECPv6.15.16//NONSGML v1.0//EN
CALSCALE:GREGORIAN
METHOD:PUBLISH
X-ORIGINAL-URL:https://www.commonmarket.coop
X-WR-CALDESC:Events for Common Market
REFRESH-INTERVAL;VALUE=DURATION:PT1H
X-Robots-Tag:noindex
X-PUBLISHED-TTL:PT1H
BEGIN:VTIMEZONE
TZID:America/New_York
BEGIN:DAYLIGHT
TZOFFSETFROM:-0500
TZOFFSETTO:-0400
TZNAME:EDT
DTSTART:20250309T070000
END:DAYLIGHT
BEGIN:STANDARD
TZOFFSETFROM:-0400
TZOFFSETTO:-0500
TZNAME:EST
DTSTART:20251102T060000
END:STANDARD
BEGIN:DAYLIGHT
TZOFFSETFROM:-0500
TZOFFSETTO:-0400
TZNAME:EDT
DTSTART:20260308T070000
END:DAYLIGHT
BEGIN:STANDARD
TZOFFSETFROM:-0400
TZOFFSETTO:-0500
TZNAME:EST
DTSTART:20261101T060000
END:STANDARD
BEGIN:DAYLIGHT
TZOFFSETFROM:-0500
TZOFFSETTO:-0400
TZNAME:EDT
DTSTART:20270314T070000
END:DAYLIGHT
BEGIN:STANDARD
TZOFFSETFROM:-0400
TZOFFSETTO:-0500
TZNAME:EST
DTSTART:20271107T060000
END:STANDARD
END:VTIMEZONE
BEGIN:VEVENT
DTSTART;TZID=America/New_York:20260227T080000
DTEND;TZID=America/New_York:20260227T163000
DTSTAMP:20260423T134618
CREATED:20260206T174934Z
LAST-MODIFIED:20260206T174934Z
UID:10003394-1772179200-1772209800@www.commonmarket.coop
SUMMARY:Mobilize Climate Summit February 27th - 28th
DESCRIPTION:Mobilize Frederick is eagerly looking forward to our 4th annual Climate Summit\, co-sponsored by Hood College\, on February 27-28\, 2026. This year’s theme\, “Local Solutions to Global Challenges” underscores the potential of collective action in addressing the climate crisis. Come learn about climate solutions that you can use to make a difference! \nThis year’s summit will feature: \n\n3 keynote addresses\nSmall group workshops on native landscaping\, climate-conscious decision-making\, and more\n2 panel presentations\nStudent activities and more information about Mobilize Frederick’s Green Schools program\nNetworking opportunities with more than 400 attendees\, including elected officials\, business owners\, educators\, residents\, and community leaders\nExhibitor Hall filled with 50 nonprofits\, local businesses\, and government agencies\n\nOne-day tickets cost $30\, and two-day tickets are $50. We also have a pay-what-you-can option for folks who would like to attend but have barriers to afford the full ticket price. REGISTER HERE! \nAll students (including college) receive free admission to the Climate Summit. \n An optional boxed lunch is available for purchase for $25 each\, but attendees also have the option to pack their own lunch or visit nearby restaurants. The closest restaurants are a 15-20 minute walk from the Hood College campus.
URL:https://www.commonmarket.coop/classes-events/mobilize-climate-summit-february-27th-28th/
LOCATION:Hood College\, 401 Rosemont Ave\, Frederick\, MD\, 21701\, United States
CATEGORIES:Eco-Friendly,Environmental
ATTACH;FMTTYPE=image/jpeg:https://www.commonmarket.coop/wp-content/uploads/2026/02/Updated-26-Summit-Marketing-graphic.jpg
END:VEVENT
END:VCALENDAR