BEGIN:VCALENDAR
VERSION:2.0
PRODID:-//Common Market - ECPv6.15.16//NONSGML v1.0//EN
CALSCALE:GREGORIAN
METHOD:PUBLISH
X-WR-CALNAME:Common Market
X-ORIGINAL-URL:https://www.commonmarket.coop
X-WR-CALDESC:Events for Common Market
REFRESH-INTERVAL;VALUE=DURATION:PT1H
X-Robots-Tag:noindex
X-PUBLISHED-TTL:PT1H
BEGIN:VTIMEZONE
TZID:America/New_York
BEGIN:DAYLIGHT
TZOFFSETFROM:-0500
TZOFFSETTO:-0400
TZNAME:EDT
DTSTART:20240310T070000
END:DAYLIGHT
BEGIN:STANDARD
TZOFFSETFROM:-0400
TZOFFSETTO:-0500
TZNAME:EST
DTSTART:20241103T060000
END:STANDARD
BEGIN:DAYLIGHT
TZOFFSETFROM:-0500
TZOFFSETTO:-0400
TZNAME:EDT
DTSTART:20250309T070000
END:DAYLIGHT
BEGIN:STANDARD
TZOFFSETFROM:-0400
TZOFFSETTO:-0500
TZNAME:EST
DTSTART:20251102T060000
END:STANDARD
BEGIN:DAYLIGHT
TZOFFSETFROM:-0500
TZOFFSETTO:-0400
TZNAME:EDT
DTSTART:20260308T070000
END:DAYLIGHT
BEGIN:STANDARD
TZOFFSETFROM:-0400
TZOFFSETTO:-0500
TZNAME:EST
DTSTART:20261101T060000
END:STANDARD
END:VTIMEZONE
BEGIN:VEVENT
DTSTART;TZID=America/New_York:20250502T120000
DTEND;TZID=America/New_York:20250502T131500
DTSTAMP:20260422T085230
CREATED:20250311T151020Z
LAST-MODIFIED:20250506T174658Z
UID:10003080-1746187200-1746191700@www.commonmarket.coop
SUMMARY:Plant-Based Lunch Bunch!
DESCRIPTION:This class has been cancelled\, if you are interested in attending this series we have another one scheduled for June 6th\, we hope to see you there!
URL:https://www.commonmarket.coop/classes-events/plant-based-lunch-bunch-3/
LOCATION:Common Market – 7th Street\, 927 West 7th Street\, Frederick\, MD\, 21701\, United States
CATEGORIES:Community Building,Cooking,Health & Wellness,Tasting
ATTACH;FMTTYPE=image/jpeg:https://www.commonmarket.coop/wp-content/uploads/2025/03/plant-based-lunch-bunch-1.jpg
END:VEVENT
BEGIN:VEVENT
DTSTART;TZID=America/New_York:20250524T130000
DTEND;TZID=America/New_York:20250524T143000
DTSTAMP:20260422T085230
CREATED:20250418T132911Z
LAST-MODIFIED:20250418T132911Z
UID:10003096-1748091600-1748097000@www.commonmarket.coop
SUMMARY:A Children’s Taste of African Heritage[FREE]
DESCRIPTION:Join us for an engaging introduction to A Children’s Taste of African Heritage (ACTOAH)\, a program by Oldways designed to celebrate and promote healthy eating through the rich flavors of African heritage foods. This class highlights how culturally-appropriate\, plant-based meals—can support good nutrition. Participants will explore delicious\, budget-friendly recipes and receive a Children’s Taste of African Heritage Student Handbook along with access to additional online lessons. Plus\, kids will have the opportunity to tour the store\, learning how to identify nutritious foods and make healthy choices while grocery shopping. For a wealth of healthy eating information visit oldwayspt.org This workshop is suitable for ages 8 and up. \nTasha Manigo-Bizzell is a licensed dietician\, nutritionist\, certified nutrition specialist\, and owner of Muse Wellness. \nThis is a free community offering with limited capacity\, if you have RSVP’d but are unable to attend\, kindly email arobinson@commonmarket.coop to allow us to offer your spot to another participant.
URL:https://www.commonmarket.coop/classes-events/a-childrens-taste-of-african-heritagefree/
LOCATION:Common Market – 7th Street\, 927 West 7th Street\, Frederick\, MD\, 21701\, United States
CATEGORIES:Cooking,Cultural,Kids,Tasting
ATTACH;FMTTYPE=image/jpeg:https://www.commonmarket.coop/wp-content/uploads/2025/04/African-Heritage-Class.jpg
END:VEVENT
END:VCALENDAR