BEGIN:VCALENDAR
VERSION:2.0
PRODID:-//Common Market - ECPv6.15.16//NONSGML v1.0//EN
CALSCALE:GREGORIAN
METHOD:PUBLISH
X-WR-CALNAME:Common Market
X-ORIGINAL-URL:https://www.commonmarket.coop
X-WR-CALDESC:Events for Common Market
REFRESH-INTERVAL;VALUE=DURATION:PT1H
X-Robots-Tag:noindex
X-PUBLISHED-TTL:PT1H
BEGIN:VTIMEZONE
TZID:America/New_York
BEGIN:DAYLIGHT
TZOFFSETFROM:-0500
TZOFFSETTO:-0400
TZNAME:EDT
DTSTART:20240310T070000
END:DAYLIGHT
BEGIN:STANDARD
TZOFFSETFROM:-0400
TZOFFSETTO:-0500
TZNAME:EST
DTSTART:20241103T060000
END:STANDARD
BEGIN:DAYLIGHT
TZOFFSETFROM:-0500
TZOFFSETTO:-0400
TZNAME:EDT
DTSTART:20250309T070000
END:DAYLIGHT
BEGIN:STANDARD
TZOFFSETFROM:-0400
TZOFFSETTO:-0500
TZNAME:EST
DTSTART:20251102T060000
END:STANDARD
BEGIN:DAYLIGHT
TZOFFSETFROM:-0500
TZOFFSETTO:-0400
TZNAME:EDT
DTSTART:20260308T070000
END:DAYLIGHT
BEGIN:STANDARD
TZOFFSETFROM:-0400
TZOFFSETTO:-0500
TZNAME:EST
DTSTART:20261101T060000
END:STANDARD
END:VTIMEZONE
BEGIN:VEVENT
DTSTART;TZID=America/New_York:20250412T140000
DTEND;TZID=America/New_York:20250412T153000
DTSTAMP:20260422T072129
CREATED:20250314T211015Z
LAST-MODIFIED:20250319T195857Z
UID:10003085-1744466400-1744471800@www.commonmarket.coop
SUMMARY:A Children's Taste of African Heritage[FREE]
DESCRIPTION:Join us for an engaging introduction to A Children’s Taste of African Heritage (ACTOAH)\, a program by Oldways designed to celebrate and promote healthy eating through the rich flavors of African heritage foods. This class highlights how culturally-appropriate\, plant-based meals—featuring ingredients like leafy greens\, tubers\, and okra—can support good nutrition. Participants will explore delicious\, budget-friendly recipes and receive A Children’s Taste of African Heritage Student Handbook along with access to additional online lessons. Plus\, kids will have the opportunity to tour the store\, learning how to identify nutritious foods and make healthy choices while grocery shopping. For a wealth of healthy eating information visit oldwayspt.org \nTasha Manigo-Bizzell is a licensed dietician\, nutritionist\, certified nutrition specialist\, and owner of Muse Wellness. \nThis workshop is suitable for ages 8 and up.
URL:https://www.commonmarket.coop/classes-events/a-childrens-taste-of-african-heritage/
LOCATION:Common Market – 7th Street\, 927 West 7th Street\, Frederick\, MD\, 21701\, United States
CATEGORIES:Cooking,Cultural,Health & Wellness,Kids,New!,Store Tour,Tasting
ATTACH;FMTTYPE=image/png:https://www.commonmarket.coop/wp-content/uploads/2025/03/oldways.png
END:VEVENT
END:VCALENDAR