BEGIN:VCALENDAR
VERSION:2.0
PRODID:-//Common Market - ECPv6.15.16//NONSGML v1.0//EN
CALSCALE:GREGORIAN
METHOD:PUBLISH
X-WR-CALNAME:Common Market
X-ORIGINAL-URL:https://www.commonmarket.coop
X-WR-CALDESC:Events for Common Market
REFRESH-INTERVAL;VALUE=DURATION:PT1H
X-Robots-Tag:noindex
X-PUBLISHED-TTL:PT1H
BEGIN:VTIMEZONE
TZID:America/New_York
BEGIN:DAYLIGHT
TZOFFSETFROM:-0500
TZOFFSETTO:-0400
TZNAME:EDT
DTSTART:20240310T070000
END:DAYLIGHT
BEGIN:STANDARD
TZOFFSETFROM:-0400
TZOFFSETTO:-0500
TZNAME:EST
DTSTART:20241103T060000
END:STANDARD
BEGIN:DAYLIGHT
TZOFFSETFROM:-0500
TZOFFSETTO:-0400
TZNAME:EDT
DTSTART:20250309T070000
END:DAYLIGHT
BEGIN:STANDARD
TZOFFSETFROM:-0400
TZOFFSETTO:-0500
TZNAME:EST
DTSTART:20251102T060000
END:STANDARD
BEGIN:DAYLIGHT
TZOFFSETFROM:-0500
TZOFFSETTO:-0400
TZNAME:EDT
DTSTART:20260308T070000
END:DAYLIGHT
BEGIN:STANDARD
TZOFFSETFROM:-0400
TZOFFSETTO:-0500
TZNAME:EST
DTSTART:20261101T060000
END:STANDARD
END:VTIMEZONE
BEGIN:VEVENT
DTSTART;TZID=America/New_York:20250307T120000
DTEND;TZID=America/New_York:20250307T131500
DTSTAMP:20260422T072201
CREATED:20250204T210710Z
LAST-MODIFIED:20250225T172032Z
UID:10003046-1741348800-1741353300@www.commonmarket.coop
SUMMARY:Plant-Based Lunch Bunch!
DESCRIPTION:Looking to learn new ways to cook? Want to try out plant-based eating or be part of a fun food community? Join Common Market Board President and culinary coach\, Alison Wexler\, in the 7th Street Community Room on the first Friday of each month from 12:00 to 1:15 for a new Plant-Based Lunch Bunch! Alison will provide a cooking demo of a new vegan or vegetarian recipe each month\, which the group will eat together afterward while getting to know each other and swapping tales from the kitchen. This is a great opportunity to meet new people\, expand your cooking repertoire\, and get healthy at the same time!
URL:https://www.commonmarket.coop/classes-events/plant-based-lunch-bunch/
LOCATION:Common Market – 7th Street\, 927 West 7th Street\, Frederick\, MD\, 21701\, United States
CATEGORIES:Cooking,New!,Tasting
ATTACH;FMTTYPE=image/jpeg:https://www.commonmarket.coop/wp-content/uploads/2025/02/Bluezonessss-scaled.jpg
END:VEVENT
END:VCALENDAR