BEGIN:VCALENDAR
VERSION:2.0
PRODID:-//Common Market - ECPv6.15.16//NONSGML v1.0//EN
CALSCALE:GREGORIAN
METHOD:PUBLISH
X-WR-CALNAME:Common Market
X-ORIGINAL-URL:https://www.commonmarket.coop
X-WR-CALDESC:Events for Common Market
REFRESH-INTERVAL;VALUE=DURATION:PT1H
X-Robots-Tag:noindex
X-PUBLISHED-TTL:PT1H
BEGIN:VTIMEZONE
TZID:America/New_York
BEGIN:DAYLIGHT
TZOFFSETFROM:-0500
TZOFFSETTO:-0400
TZNAME:EDT
DTSTART:20230312T070000
END:DAYLIGHT
BEGIN:STANDARD
TZOFFSETFROM:-0400
TZOFFSETTO:-0500
TZNAME:EST
DTSTART:20231105T060000
END:STANDARD
BEGIN:DAYLIGHT
TZOFFSETFROM:-0500
TZOFFSETTO:-0400
TZNAME:EDT
DTSTART:20240310T070000
END:DAYLIGHT
BEGIN:STANDARD
TZOFFSETFROM:-0400
TZOFFSETTO:-0500
TZNAME:EST
DTSTART:20241103T060000
END:STANDARD
BEGIN:DAYLIGHT
TZOFFSETFROM:-0500
TZOFFSETTO:-0400
TZNAME:EDT
DTSTART:20250309T070000
END:DAYLIGHT
BEGIN:STANDARD
TZOFFSETFROM:-0400
TZOFFSETTO:-0500
TZNAME:EST
DTSTART:20251102T060000
END:STANDARD
END:VTIMEZONE
BEGIN:VEVENT
DTSTART;TZID=America/New_York:20240201T113000
DTEND;TZID=America/New_York:20240201T124500
DTSTAMP:20260421T193035
CREATED:20231107T174358Z
LAST-MODIFIED:20240201T162818Z
UID:10001715-1706787000-1706791500@www.commonmarket.coop
SUMMARY:Eating for Longevity: How to Cook the Blue Zones Way [Part Three] (SOLD OUT)
DESCRIPTION:Want to live to 100? Certain communities around the world\, dubbed Blue Zones by Dan Buettner at National Geographic\, may have the key. The largest populations of centenarians live in Sardinia\, Italy; Okinawa\, Japan; Nicoya\, Costa Rica; Ikaria\, Greece; and Loma Linda\, California\, and their longevity seems to be tied to a variety of common healthy behaviors\, including (if not especially) how they eat\, which is a mostly plant-based diet. In this 5-week cooking demonstration series\, led by culinary coach Alison Wexler\, you will learn about a different Blue Zone each week and how to cook plant-based dishes from that region. \nThe third part of this series\, on February 1st\, focuses on Nicoya. Latin American food isn’t all meat and tortillas. The Nicoyans have subsided on a mostly meatless diet\, made up primarily of beans\, rice\, corn\, squash\, and fresh fruits for generations. Come prepared to volunteer as Alison makes Gallo Pinto and Hearts of Palm Ceviche from The Blue Zones Kitchen cookbook. Samples will be served. \nOptional pre-reading and/or viewing for this series \n\nDan Buettner\, The Blue Zones: 9 Lessons for Living Longer from the People Who’ve Lived the Longest\, 2d ed. National Geographic\, 2012.\nDan Buettner\, The Blue Zones Kitchen. National Geographic\, 2019.\n“Live to 100: Secrets of the Blue Zones\,” 4 episodes on Netflix\, 2023.
URL:https://www.commonmarket.coop/classes-events/eating-for-longevity-how-to-cook-the-blue-zones-way-part-three/
LOCATION:Common Market – 7th Street\, 927 West 7th Street\, Frederick\, MD\, 21701\, United States
CATEGORIES:Cooking,Cultural,Health & Wellness,New!,Tasting
ATTACH;FMTTYPE=image/jpeg:https://www.commonmarket.coop/wp-content/uploads/2023/11/Alison-012_pp-CUT-DOWN-scaled.jpg
END:VEVENT
BEGIN:VEVENT
DTSTART;TZID=America/New_York:20240208T113000
DTEND;TZID=America/New_York:20240208T124500
DTSTAMP:20260421T193035
CREATED:20231107T175224Z
LAST-MODIFIED:20240109T175154Z
UID:10001716-1707391800-1707396300@www.commonmarket.coop
SUMMARY:Eating for Longevity: How to Cook the Blue Zones Way [Part Four] (SOLD OUT)
DESCRIPTION:Want to live to 100? Certain communities around the world\, dubbed Blue Zones by Dan Buettner at National Geographic\, may have the key. The largest populations of centenarians live in Sardinia\, Italy; Okinawa\, Japan; Nicoya\, Costa Rica; Ikaria\, Greece; and Loma Linda\, California\, and their longevity seems to be tied to a variety of common healthy behaviors\, including (if not especially) how they eat\, which is a mostly plant-based diet. In this 5-week cooking demonstration series\, led by culinary coach Alison Wexler\, you will learn about a different Blue Zone each week and how to cook plant-based dishes from that region. \nThe fourth part of this series\, on February 8th\, focuses on Ikaria. Here we find a nuanced version of the tried-and-true Mediterranean diet\, that is heavy on olive oil\, as well as legumes and greens. Come prepared to volunteer as Alison makes Chickpea Soup with Lemon and Herbs and Winter Potato Salad from The Blue Zones Kitchen cookbook. Samples will be served. \nOptional pre-reading and/or viewing for this series \n\nDan Buettner\, The Blue Zones: 9 Lessons for Living Longer from the People Who’ve Lived the Longest\, 2d ed. National Geographic\, 2012.\nDan Buettner\, The Blue Zones Kitchen. National Geographic\, 2019.\n“Live to 100: Secrets of the Blue Zones\,” 4 episodes on Netflix\, 2023.
URL:https://www.commonmarket.coop/classes-events/eating-for-longevity-how-to-cook-the-blue-zones-way-part-four/
LOCATION:Common Market – 7th Street\, 927 West 7th Street\, Frederick\, MD\, 21701\, United States
CATEGORIES:Cooking,Cultural,Health & Wellness,New!,Tasting
ATTACH;FMTTYPE=image/jpeg:https://www.commonmarket.coop/wp-content/uploads/2023/11/Alison-012_pp-CUT-DOWN-scaled.jpg
END:VEVENT
BEGIN:VEVENT
DTSTART;TZID=America/New_York:20240215T113000
DTEND;TZID=America/New_York:20240215T124500
DTSTAMP:20260421T193035
CREATED:20231107T175722Z
LAST-MODIFIED:20240109T181506Z
UID:10001717-1707996600-1708001100@www.commonmarket.coop
SUMMARY:Eating for Longevity: How to Cook the Blue Zones Way [Part Five] (SOLD OUT)
DESCRIPTION:Want to live to 100? Certain communities around the world\, dubbed Blue Zones by Dan Buettner at National Geographic\, may have the key. The largest populations of centenarians live in Sardinia\, Italy; Okinawa\, Japan; Nicoya\, Costa Rica; Ikaria\, Greece; and Loma Linda\, California\, and their longevity seems to be tied to a variety of common healthy behaviors\, including (if not especially) how they eat\, which is a mostly plant-based diet. In this 5-week cooking demonstration series\, led by culinary coach Alison Wexler\, you will learn about a different Blue Zone each week and how to cook plant-based dishes from that region. \nThe fifth and final part of this series\, on February 15th\, focuses on Loma Linda. Loma Linda has a large Seventh Day Adventist community\, and they espouse a mostly plant-based diet as part of their faith. This is where American staples get a vegetarian or vegan upgrade. Come prepared to volunteer as Alison makes One-Pot Lasagna Soup and Coconut Chia Pudding from The Blue Zones Cookbook. Samples will be served. \nOptional pre-reading and/or viewing for this series \n\nDan Buettner\, The Blue Zones: 9 Lessons for Living Longer from the People Who’ve Lived the Longest\, 2d ed. National Geographic\, 2012.\nDan Buettner\, The Blue Zones Kitchen. National Geographic\, 2019.\n“Live to 100: Secrets of the Blue Zones\,” 4 episodes on Netflix\, 2023.
URL:https://www.commonmarket.coop/classes-events/eating-for-longevity-how-to-cook-the-blue-zones-way-part-five/
LOCATION:Common Market – 7th Street\, 927 West 7th Street\, Frederick\, MD\, 21701\, United States
CATEGORIES:Cooking,Cultural,Health & Wellness,New!,Tasting
ATTACH;FMTTYPE=image/jpeg:https://www.commonmarket.coop/wp-content/uploads/2023/11/Alison-012_pp-CUT-DOWN-scaled.jpg
END:VEVENT
END:VCALENDAR