BEGIN:VCALENDAR
VERSION:2.0
PRODID:-//Common Market - ECPv6.15.16//NONSGML v1.0//EN
CALSCALE:GREGORIAN
METHOD:PUBLISH
X-ORIGINAL-URL:https://www.commonmarket.coop
X-WR-CALDESC:Events for Common Market
REFRESH-INTERVAL;VALUE=DURATION:PT1H
X-Robots-Tag:noindex
X-PUBLISHED-TTL:PT1H
BEGIN:VTIMEZONE
TZID:America/New_York
BEGIN:DAYLIGHT
TZOFFSETFROM:-0500
TZOFFSETTO:-0400
TZNAME:EDT
DTSTART:20220313T070000
END:DAYLIGHT
BEGIN:STANDARD
TZOFFSETFROM:-0400
TZOFFSETTO:-0500
TZNAME:EST
DTSTART:20221106T060000
END:STANDARD
BEGIN:DAYLIGHT
TZOFFSETFROM:-0500
TZOFFSETTO:-0400
TZNAME:EDT
DTSTART:20230312T070000
END:DAYLIGHT
BEGIN:STANDARD
TZOFFSETFROM:-0400
TZOFFSETTO:-0500
TZNAME:EST
DTSTART:20231105T060000
END:STANDARD
BEGIN:DAYLIGHT
TZOFFSETFROM:-0500
TZOFFSETTO:-0400
TZNAME:EDT
DTSTART:20240310T070000
END:DAYLIGHT
BEGIN:STANDARD
TZOFFSETFROM:-0400
TZOFFSETTO:-0500
TZNAME:EST
DTSTART:20241103T060000
END:STANDARD
END:VTIMEZONE
BEGIN:VEVENT
DTSTART;TZID=America/New_York:20230602T110000
DTEND;TZID=America/New_York:20230602T120000
DTSTAMP:20260423T093841
CREATED:20230512T202201Z
LAST-MODIFIED:20230513T160912Z
UID:10000722-1685703600-1685707200@www.commonmarket.coop
SUMMARY:First Friday Cooking Demo!!
DESCRIPTION:Tired of the same meals you’ve been cooking? Join us every First Friday to sample delicious new recipes!!! Head into the weekend with all the ingredients you need to make an exciting and new meal! \nWe will be demoing a delicious yet simple Spring Pesto Pasta dish! Find us near the Produce Department!
URL:https://www.commonmarket.coop/classes-events/first-friday-cooking-demo/
LOCATION:Common Market – Route 85\, 5728 Buckeystown Pike\, Unit B1\, Frederick\, MD\, 21704\, United States
CATEGORIES:Cooking,New!,Tasting
ATTACH;FMTTYPE=image/png:https://www.commonmarket.coop/wp-content/uploads/2023/05/Pesto.png
END:VEVENT
END:VCALENDAR