BEGIN:VCALENDAR
VERSION:2.0
PRODID:-//Common Market - ECPv6.15.16//NONSGML v1.0//EN
CALSCALE:GREGORIAN
METHOD:PUBLISH
X-ORIGINAL-URL:https://www.commonmarket.coop
X-WR-CALDESC:Events for Common Market
REFRESH-INTERVAL;VALUE=DURATION:PT1H
X-Robots-Tag:noindex
X-PUBLISHED-TTL:PT1H
BEGIN:VTIMEZONE
TZID:America/New_York
BEGIN:DAYLIGHT
TZOFFSETFROM:-0500
TZOFFSETTO:-0400
TZNAME:EDT
DTSTART:20230312T070000
END:DAYLIGHT
BEGIN:STANDARD
TZOFFSETFROM:-0400
TZOFFSETTO:-0500
TZNAME:EST
DTSTART:20231105T060000
END:STANDARD
BEGIN:DAYLIGHT
TZOFFSETFROM:-0500
TZOFFSETTO:-0400
TZNAME:EDT
DTSTART:20240310T070000
END:DAYLIGHT
BEGIN:STANDARD
TZOFFSETFROM:-0400
TZOFFSETTO:-0500
TZNAME:EST
DTSTART:20241103T060000
END:STANDARD
BEGIN:DAYLIGHT
TZOFFSETFROM:-0500
TZOFFSETTO:-0400
TZNAME:EDT
DTSTART:20250309T070000
END:DAYLIGHT
BEGIN:STANDARD
TZOFFSETFROM:-0400
TZOFFSETTO:-0500
TZNAME:EST
DTSTART:20251102T060000
END:STANDARD
END:VTIMEZONE
BEGIN:VEVENT
DTSTART;TZID=America/New_York:20240807T083000
DTEND;TZID=America/New_York:20240807T093000
DTSTAMP:20260424T154148
CREATED:20230801T193501Z
LAST-MODIFIED:20240213T163948Z
UID:10001877-1723019400-1723023000@www.commonmarket.coop
SUMMARY:Gentle Yoga for All!
DESCRIPTION:This class is the perfect intro for a new student or an experienced yogi that is wanting to fill their cup with an accessible and supportive yoga practice. There will be plenty of modifications offered to meet various levels so that ALL can enjoy the benefits of yoga. The practice will include low impact movement\, seated postures and plenty of stretching. Students will become comfortable using props like blocks\, straps and even the occasional chair. These classes allow the student to leave with lots of tools to support a yoga practice in any class setting as well as a home practice. These classes are donation based and will take place in the 7th Street Common Market Community Room (enter through the cafe seating). Some mats\, blocks\, and blankets are available but feel free to bring your own!  \nTo reserve your spot please sign-up here! Yogamour (mindbodyonline.com) \nThis is a DONATION BASED Class. Funds raised will benefit an orphanage/school in India that houses\, teaches\, and feeds children who were abandoned\, sold as sex-workers\, or live on the streets. For more information visit – https://www.ramanas.org/ \nMeet Your Teacher: Toby Schermerhorn \nToby is a 200 Hour Kripalu Trained Yoga Teacher\, a 300 Hour Sol Trained Yoga Teacher\, a Certified Freedom Barre Instructor\, and FLEX Fitness Instructor. She enjoys bringing her passion for Yoga\, Barre and a freedom of expression to both teachers and students (when she is not traversing the globe).
URL:https://www.commonmarket.coop/classes-events/free-drop-in-yoga-gentle-yoga-class-for-all-2-2/2024-08-07/
LOCATION:Common Market – 7th Street\, 927 West 7th Street\, Frederick\, MD\, 21701\, United States
CATEGORIES:Community Building,Health & Wellness
ATTACH;FMTTYPE=image/jpeg:https://www.commonmarket.coop/wp-content/uploads/2022/07/Yogamour-logo.jpg
END:VEVENT
BEGIN:VEVENT
DTSTART;TZID=America/New_York:20240809T120000
DTEND;TZID=America/New_York:20240809T133000
DTSTAMP:20260424T154148
CREATED:20240509T194906Z
LAST-MODIFIED:20240509T195306Z
UID:10002265-1723204800-1723210200@www.commonmarket.coop
SUMMARY:Learn How to Ride Transit! Pizza Party! [FREE]
DESCRIPTION:𝗟𝗲𝘁’𝘀 𝗯𝗲 𝗿𝗲𝗮𝗹: We know you’ve been seeing those big green buses driving around The City of Frederick and Frederick County\, Maryland. We get it—we’re not mind-readers. But we do know that people often think “𝙄 𝙧𝙚𝙖𝙡𝙡𝙮 𝙬𝙖𝙣𝙩 𝙩𝙤 𝙧𝙞𝙙𝙚 𝙩𝙝𝙚 𝙗𝙪𝙨\, 𝙗𝙪𝙩 𝙄’𝙢 𝙞𝙣𝙩𝙞𝙢𝙞𝙙𝙖𝙩𝙚𝙙.” \nWell\, we hear you\, and we’re here to help! We’ll teach you how to read the schedule and how to use Google Transit to plan your trip. Join Transit Services of Frederick County and the Common Market for a quick and informal travel training session. We’ll learn about Google Maps to plan trips and we’ll hop onboard the 60 Connector right outside The Common Market. We’ll ride down to the Transit Center and transfer to the 61 Connector\, returning to the Common Market shortly after. \nWe will start with a Pizza Party and end with a Bus Riding Party! \nPlease RSVP so we’re able to order enough pizza! 🙂
URL:https://www.commonmarket.coop/classes-events/learn-how-to-ride-transit-pizza-party-free/
LOCATION:Common Market – 7th Street\, 927 West 7th Street\, Frederick\, MD\, 21701\, United States
CATEGORIES:Community Building
ATTACH;FMTTYPE=image/jpeg:https://www.commonmarket.coop/wp-content/uploads/2024/05/ChairOneRt85-5.jpg
END:VEVENT
BEGIN:VEVENT
DTSTART;TZID=America/New_York:20240814T083000
DTEND;TZID=America/New_York:20240814T093000
DTSTAMP:20260424T154148
CREATED:20230801T193501Z
LAST-MODIFIED:20240213T163948Z
UID:10001878-1723624200-1723627800@www.commonmarket.coop
SUMMARY:Gentle Yoga for All!
DESCRIPTION:This class is the perfect intro for a new student or an experienced yogi that is wanting to fill their cup with an accessible and supportive yoga practice. There will be plenty of modifications offered to meet various levels so that ALL can enjoy the benefits of yoga. The practice will include low impact movement\, seated postures and plenty of stretching. Students will become comfortable using props like blocks\, straps and even the occasional chair. These classes allow the student to leave with lots of tools to support a yoga practice in any class setting as well as a home practice. These classes are donation based and will take place in the 7th Street Common Market Community Room (enter through the cafe seating). Some mats\, blocks\, and blankets are available but feel free to bring your own!  \nTo reserve your spot please sign-up here! Yogamour (mindbodyonline.com) \nThis is a DONATION BASED Class. Funds raised will benefit an orphanage/school in India that houses\, teaches\, and feeds children who were abandoned\, sold as sex-workers\, or live on the streets. For more information visit – https://www.ramanas.org/ \nMeet Your Teacher: Toby Schermerhorn \nToby is a 200 Hour Kripalu Trained Yoga Teacher\, a 300 Hour Sol Trained Yoga Teacher\, a Certified Freedom Barre Instructor\, and FLEX Fitness Instructor. She enjoys bringing her passion for Yoga\, Barre and a freedom of expression to both teachers and students (when she is not traversing the globe).
URL:https://www.commonmarket.coop/classes-events/free-drop-in-yoga-gentle-yoga-class-for-all-2-2/2024-08-14/
LOCATION:Common Market – 7th Street\, 927 West 7th Street\, Frederick\, MD\, 21701\, United States
CATEGORIES:Community Building,Health & Wellness
ATTACH;FMTTYPE=image/jpeg:https://www.commonmarket.coop/wp-content/uploads/2022/07/Yogamour-logo.jpg
END:VEVENT
BEGIN:VEVENT
DTSTART;TZID=America/New_York:20240815T160000
DTEND;TZID=America/New_York:20240815T170000
DTSTAMP:20260424T154148
CREATED:20230809T165754Z
LAST-MODIFIED:20240309T181138Z
UID:10001730-1723737600-1723741200@www.commonmarket.coop
SUMMARY:Queer Art Social!
DESCRIPTION:Calling all Queer creatives!!!! Come paint\, draw\, create\, make and mingle every third Thursday of the month in our Community Room! Bring something you are working on and or start a new project! You do not have to be a visual artist to attend\, all forms of creating are welcome! This is a FREE drop-in social gathering! Music\, sparkly drinks\, tea and limited art supplies will be provided. \nThis offering is specifically for our LGBTQIA community\, our intention is to create a fun\, safe\, and empowering space for our Queer community.
URL:https://www.commonmarket.coop/classes-events/queer-art-social-4/2024-08-15/
LOCATION:Common Market – 7th Street\, 927 West 7th Street\, Frederick\, MD\, 21701\, United States
CATEGORIES:Art,Community Building
ATTACH;FMTTYPE=image/png:https://www.commonmarket.coop/wp-content/uploads/2023/08/Rainbow-Playful-Pride-Party-Invitation-Instagram-Post-4.png
END:VEVENT
BEGIN:VEVENT
DTSTART;TZID=America/New_York:20240821T083000
DTEND;TZID=America/New_York:20240821T093000
DTSTAMP:20260424T154148
CREATED:20230801T193501Z
LAST-MODIFIED:20240213T163948Z
UID:10001879-1724229000-1724232600@www.commonmarket.coop
SUMMARY:Gentle Yoga for All!
DESCRIPTION:This class is the perfect intro for a new student or an experienced yogi that is wanting to fill their cup with an accessible and supportive yoga practice. There will be plenty of modifications offered to meet various levels so that ALL can enjoy the benefits of yoga. The practice will include low impact movement\, seated postures and plenty of stretching. Students will become comfortable using props like blocks\, straps and even the occasional chair. These classes allow the student to leave with lots of tools to support a yoga practice in any class setting as well as a home practice. These classes are donation based and will take place in the 7th Street Common Market Community Room (enter through the cafe seating). Some mats\, blocks\, and blankets are available but feel free to bring your own!  \nTo reserve your spot please sign-up here! Yogamour (mindbodyonline.com) \nThis is a DONATION BASED Class. Funds raised will benefit an orphanage/school in India that houses\, teaches\, and feeds children who were abandoned\, sold as sex-workers\, or live on the streets. For more information visit – https://www.ramanas.org/ \nMeet Your Teacher: Toby Schermerhorn \nToby is a 200 Hour Kripalu Trained Yoga Teacher\, a 300 Hour Sol Trained Yoga Teacher\, a Certified Freedom Barre Instructor\, and FLEX Fitness Instructor. She enjoys bringing her passion for Yoga\, Barre and a freedom of expression to both teachers and students (when she is not traversing the globe).
URL:https://www.commonmarket.coop/classes-events/free-drop-in-yoga-gentle-yoga-class-for-all-2-2/2024-08-21/
LOCATION:Common Market – 7th Street\, 927 West 7th Street\, Frederick\, MD\, 21701\, United States
CATEGORIES:Community Building,Health & Wellness
ATTACH;FMTTYPE=image/jpeg:https://www.commonmarket.coop/wp-content/uploads/2022/07/Yogamour-logo.jpg
END:VEVENT
BEGIN:VEVENT
DTSTART;TZID=America/New_York:20240828T083000
DTEND;TZID=America/New_York:20240828T093000
DTSTAMP:20260424T154148
CREATED:20230801T193501Z
LAST-MODIFIED:20240213T163948Z
UID:10001880-1724833800-1724837400@www.commonmarket.coop
SUMMARY:Gentle Yoga for All!
DESCRIPTION:This class is the perfect intro for a new student or an experienced yogi that is wanting to fill their cup with an accessible and supportive yoga practice. There will be plenty of modifications offered to meet various levels so that ALL can enjoy the benefits of yoga. The practice will include low impact movement\, seated postures and plenty of stretching. Students will become comfortable using props like blocks\, straps and even the occasional chair. These classes allow the student to leave with lots of tools to support a yoga practice in any class setting as well as a home practice. These classes are donation based and will take place in the 7th Street Common Market Community Room (enter through the cafe seating). Some mats\, blocks\, and blankets are available but feel free to bring your own!  \nTo reserve your spot please sign-up here! Yogamour (mindbodyonline.com) \nThis is a DONATION BASED Class. Funds raised will benefit an orphanage/school in India that houses\, teaches\, and feeds children who were abandoned\, sold as sex-workers\, or live on the streets. For more information visit – https://www.ramanas.org/ \nMeet Your Teacher: Toby Schermerhorn \nToby is a 200 Hour Kripalu Trained Yoga Teacher\, a 300 Hour Sol Trained Yoga Teacher\, a Certified Freedom Barre Instructor\, and FLEX Fitness Instructor. She enjoys bringing her passion for Yoga\, Barre and a freedom of expression to both teachers and students (when she is not traversing the globe).
URL:https://www.commonmarket.coop/classes-events/free-drop-in-yoga-gentle-yoga-class-for-all-2-2/2024-08-28/
LOCATION:Common Market – 7th Street\, 927 West 7th Street\, Frederick\, MD\, 21701\, United States
CATEGORIES:Community Building,Health & Wellness
ATTACH;FMTTYPE=image/jpeg:https://www.commonmarket.coop/wp-content/uploads/2022/07/Yogamour-logo.jpg
END:VEVENT
END:VCALENDAR