BEGIN:VCALENDAR
VERSION:2.0
PRODID:-//Common Market - ECPv6.15.16//NONSGML v1.0//EN
CALSCALE:GREGORIAN
METHOD:PUBLISH
X-WR-CALNAME:Common Market
X-ORIGINAL-URL:https://www.commonmarket.coop
X-WR-CALDESC:Events for Common Market
REFRESH-INTERVAL;VALUE=DURATION:PT1H
X-Robots-Tag:noindex
X-PUBLISHED-TTL:PT1H
BEGIN:VTIMEZONE
TZID:America/New_York
BEGIN:DAYLIGHT
TZOFFSETFROM:-0500
TZOFFSETTO:-0400
TZNAME:EDT
DTSTART:20220313T070000
END:DAYLIGHT
BEGIN:STANDARD
TZOFFSETFROM:-0400
TZOFFSETTO:-0500
TZNAME:EST
DTSTART:20221106T060000
END:STANDARD
BEGIN:DAYLIGHT
TZOFFSETFROM:-0500
TZOFFSETTO:-0400
TZNAME:EDT
DTSTART:20230312T070000
END:DAYLIGHT
BEGIN:STANDARD
TZOFFSETFROM:-0400
TZOFFSETTO:-0500
TZNAME:EST
DTSTART:20231105T060000
END:STANDARD
BEGIN:DAYLIGHT
TZOFFSETFROM:-0500
TZOFFSETTO:-0400
TZNAME:EDT
DTSTART:20240310T070000
END:DAYLIGHT
BEGIN:STANDARD
TZOFFSETFROM:-0400
TZOFFSETTO:-0500
TZNAME:EST
DTSTART:20241103T060000
END:STANDARD
END:VTIMEZONE
BEGIN:VEVENT
DTSTART;TZID=America/New_York:20231101T083000
DTEND;TZID=America/New_York:20231101T093000
DTSTAMP:20260425T072509
CREATED:20230801T193501Z
LAST-MODIFIED:20240213T163948Z
UID:10001837-1698827400-1698831000@www.commonmarket.coop
SUMMARY:Gentle Yoga for All!
DESCRIPTION:This class is the perfect intro for a new student or an experienced yogi that is wanting to fill their cup with an accessible and supportive yoga practice. There will be plenty of modifications offered to meet various levels so that ALL can enjoy the benefits of yoga. The practice will include low impact movement\, seated postures and plenty of stretching. Students will become comfortable using props like blocks\, straps and even the occasional chair. These classes allow the student to leave with lots of tools to support a yoga practice in any class setting as well as a home practice. These classes are donation based and will take place in the 7th Street Common Market Community Room (enter through the cafe seating). Some mats\, blocks\, and blankets are available but feel free to bring your own!  \nTo reserve your spot please sign-up here! Yogamour (mindbodyonline.com) \nThis is a DONATION BASED Class. Funds raised will benefit an orphanage/school in India that houses\, teaches\, and feeds children who were abandoned\, sold as sex-workers\, or live on the streets. For more information visit – https://www.ramanas.org/ \nMeet Your Teacher: Toby Schermerhorn \nToby is a 200 Hour Kripalu Trained Yoga Teacher\, a 300 Hour Sol Trained Yoga Teacher\, a Certified Freedom Barre Instructor\, and FLEX Fitness Instructor. She enjoys bringing her passion for Yoga\, Barre and a freedom of expression to both teachers and students (when she is not traversing the globe).
URL:https://www.commonmarket.coop/classes-events/free-drop-in-yoga-gentle-yoga-class-for-all-2-2/2023-11-01/
LOCATION:Common Market – 7th Street\, 927 West 7th Street\, Frederick\, MD\, 21701\, United States
CATEGORIES:Community Building,Health & Wellness
ATTACH;FMTTYPE=image/jpeg:https://www.commonmarket.coop/wp-content/uploads/2022/07/Yogamour-logo.jpg
END:VEVENT
BEGIN:VEVENT
DTSTART;TZID=America/New_York:20231108T083000
DTEND;TZID=America/New_York:20231108T093000
DTSTAMP:20260425T072509
CREATED:20230801T193501Z
LAST-MODIFIED:20240213T163948Z
UID:10001838-1699432200-1699435800@www.commonmarket.coop
SUMMARY:Gentle Yoga for All!
DESCRIPTION:This class is the perfect intro for a new student or an experienced yogi that is wanting to fill their cup with an accessible and supportive yoga practice. There will be plenty of modifications offered to meet various levels so that ALL can enjoy the benefits of yoga. The practice will include low impact movement\, seated postures and plenty of stretching. Students will become comfortable using props like blocks\, straps and even the occasional chair. These classes allow the student to leave with lots of tools to support a yoga practice in any class setting as well as a home practice. These classes are donation based and will take place in the 7th Street Common Market Community Room (enter through the cafe seating). Some mats\, blocks\, and blankets are available but feel free to bring your own!  \nTo reserve your spot please sign-up here! Yogamour (mindbodyonline.com) \nThis is a DONATION BASED Class. Funds raised will benefit an orphanage/school in India that houses\, teaches\, and feeds children who were abandoned\, sold as sex-workers\, or live on the streets. For more information visit – https://www.ramanas.org/ \nMeet Your Teacher: Toby Schermerhorn \nToby is a 200 Hour Kripalu Trained Yoga Teacher\, a 300 Hour Sol Trained Yoga Teacher\, a Certified Freedom Barre Instructor\, and FLEX Fitness Instructor. She enjoys bringing her passion for Yoga\, Barre and a freedom of expression to both teachers and students (when she is not traversing the globe).
URL:https://www.commonmarket.coop/classes-events/free-drop-in-yoga-gentle-yoga-class-for-all-2-2/2023-11-08/
LOCATION:Common Market – 7th Street\, 927 West 7th Street\, Frederick\, MD\, 21701\, United States
CATEGORIES:Community Building,Health & Wellness
ATTACH;FMTTYPE=image/jpeg:https://www.commonmarket.coop/wp-content/uploads/2022/07/Yogamour-logo.jpg
END:VEVENT
BEGIN:VEVENT
DTSTART;TZID=America/New_York:20231114T171500
DTEND;TZID=America/New_York:20231114T183000
DTSTAMP:20260425T072509
CREATED:20231101T191214Z
LAST-MODIFIED:20231101T203557Z
UID:10001712-1699982100-1699986600@www.commonmarket.coop
SUMMARY:Learn How to Ride Transit! [FREE]
DESCRIPTION:𝗟𝗲𝘁’𝘀 𝗯𝗲 𝗿𝗲𝗮𝗹: We know you’ve been seeing those big green buses driving around The City of Frederick and Frederick County\, Maryland. We get it—we’re not mind-readers. But we do know that people often think “𝙄 𝙧𝙚𝙖𝙡𝙡𝙮 𝙬𝙖𝙣𝙩 𝙩𝙤 𝙧𝙞𝙙𝙚 𝙩𝙝𝙚 𝙗𝙪𝙨\, 𝙗𝙪𝙩 𝙄’𝙢 𝙞𝙣𝙩𝙞𝙢𝙞𝙙𝙖𝙩𝙚𝙙.” \nWell\, we hear you\, and we’re here to help! We’ll teach you how to read the schedule and how to use Google Transit to plan your trip. Join Transit Services of Frederick County and the Common Market for a quick and informal travel training session. We’ll learn about Google Maps to plan trips and we’ll hop onboard the 60 Connector right outside The Common Market. We’ll ride down to the Transit Center and transfer to the 61 Connector\, returning to the Common Market shortly after. \nWe will start by sipping Hot Apple Cider in the Community Room next to our Cafe!
URL:https://www.commonmarket.coop/classes-events/learn-how-to-ride-transit-free/
LOCATION:Common Market – 7th Street\, 927 West 7th Street\, Frederick\, MD\, 21701\, United States
CATEGORIES:Community Building,Environmental
ATTACH;FMTTYPE=image/jpeg:https://www.commonmarket.coop/wp-content/uploads/2023/11/IMG_0125.jpg
END:VEVENT
BEGIN:VEVENT
DTSTART;TZID=America/New_York:20231115T083000
DTEND;TZID=America/New_York:20231115T093000
DTSTAMP:20260425T072509
CREATED:20230801T193501Z
LAST-MODIFIED:20240213T163948Z
UID:10001839-1700037000-1700040600@www.commonmarket.coop
SUMMARY:Gentle Yoga for All!
DESCRIPTION:This class is the perfect intro for a new student or an experienced yogi that is wanting to fill their cup with an accessible and supportive yoga practice. There will be plenty of modifications offered to meet various levels so that ALL can enjoy the benefits of yoga. The practice will include low impact movement\, seated postures and plenty of stretching. Students will become comfortable using props like blocks\, straps and even the occasional chair. These classes allow the student to leave with lots of tools to support a yoga practice in any class setting as well as a home practice. These classes are donation based and will take place in the 7th Street Common Market Community Room (enter through the cafe seating). Some mats\, blocks\, and blankets are available but feel free to bring your own!  \nTo reserve your spot please sign-up here! Yogamour (mindbodyonline.com) \nThis is a DONATION BASED Class. Funds raised will benefit an orphanage/school in India that houses\, teaches\, and feeds children who were abandoned\, sold as sex-workers\, or live on the streets. For more information visit – https://www.ramanas.org/ \nMeet Your Teacher: Toby Schermerhorn \nToby is a 200 Hour Kripalu Trained Yoga Teacher\, a 300 Hour Sol Trained Yoga Teacher\, a Certified Freedom Barre Instructor\, and FLEX Fitness Instructor. She enjoys bringing her passion for Yoga\, Barre and a freedom of expression to both teachers and students (when she is not traversing the globe).
URL:https://www.commonmarket.coop/classes-events/free-drop-in-yoga-gentle-yoga-class-for-all-2-2/2023-11-15/
LOCATION:Common Market – 7th Street\, 927 West 7th Street\, Frederick\, MD\, 21701\, United States
CATEGORIES:Community Building,Health & Wellness
ATTACH;FMTTYPE=image/jpeg:https://www.commonmarket.coop/wp-content/uploads/2022/07/Yogamour-logo.jpg
END:VEVENT
BEGIN:VEVENT
DTSTART;TZID=America/New_York:20231122T083000
DTEND;TZID=America/New_York:20231122T093000
DTSTAMP:20260425T072509
CREATED:20230801T193501Z
LAST-MODIFIED:20240213T163948Z
UID:10001840-1700641800-1700645400@www.commonmarket.coop
SUMMARY:Gentle Yoga for All!
DESCRIPTION:This class is the perfect intro for a new student or an experienced yogi that is wanting to fill their cup with an accessible and supportive yoga practice. There will be plenty of modifications offered to meet various levels so that ALL can enjoy the benefits of yoga. The practice will include low impact movement\, seated postures and plenty of stretching. Students will become comfortable using props like blocks\, straps and even the occasional chair. These classes allow the student to leave with lots of tools to support a yoga practice in any class setting as well as a home practice. These classes are donation based and will take place in the 7th Street Common Market Community Room (enter through the cafe seating). Some mats\, blocks\, and blankets are available but feel free to bring your own!  \nTo reserve your spot please sign-up here! Yogamour (mindbodyonline.com) \nThis is a DONATION BASED Class. Funds raised will benefit an orphanage/school in India that houses\, teaches\, and feeds children who were abandoned\, sold as sex-workers\, or live on the streets. For more information visit – https://www.ramanas.org/ \nMeet Your Teacher: Toby Schermerhorn \nToby is a 200 Hour Kripalu Trained Yoga Teacher\, a 300 Hour Sol Trained Yoga Teacher\, a Certified Freedom Barre Instructor\, and FLEX Fitness Instructor. She enjoys bringing her passion for Yoga\, Barre and a freedom of expression to both teachers and students (when she is not traversing the globe).
URL:https://www.commonmarket.coop/classes-events/free-drop-in-yoga-gentle-yoga-class-for-all-2-2/2023-11-22/
LOCATION:Common Market – 7th Street\, 927 West 7th Street\, Frederick\, MD\, 21701\, United States
CATEGORIES:Community Building,Health & Wellness
ATTACH;FMTTYPE=image/jpeg:https://www.commonmarket.coop/wp-content/uploads/2022/07/Yogamour-logo.jpg
END:VEVENT
BEGIN:VEVENT
DTSTART;TZID=America/New_York:20231129T083000
DTEND;TZID=America/New_York:20231129T093000
DTSTAMP:20260425T072509
CREATED:20230801T193501Z
LAST-MODIFIED:20240213T163948Z
UID:10001841-1701246600-1701250200@www.commonmarket.coop
SUMMARY:Gentle Yoga for All!
DESCRIPTION:This class is the perfect intro for a new student or an experienced yogi that is wanting to fill their cup with an accessible and supportive yoga practice. There will be plenty of modifications offered to meet various levels so that ALL can enjoy the benefits of yoga. The practice will include low impact movement\, seated postures and plenty of stretching. Students will become comfortable using props like blocks\, straps and even the occasional chair. These classes allow the student to leave with lots of tools to support a yoga practice in any class setting as well as a home practice. These classes are donation based and will take place in the 7th Street Common Market Community Room (enter through the cafe seating). Some mats\, blocks\, and blankets are available but feel free to bring your own!  \nTo reserve your spot please sign-up here! Yogamour (mindbodyonline.com) \nThis is a DONATION BASED Class. Funds raised will benefit an orphanage/school in India that houses\, teaches\, and feeds children who were abandoned\, sold as sex-workers\, or live on the streets. For more information visit – https://www.ramanas.org/ \nMeet Your Teacher: Toby Schermerhorn \nToby is a 200 Hour Kripalu Trained Yoga Teacher\, a 300 Hour Sol Trained Yoga Teacher\, a Certified Freedom Barre Instructor\, and FLEX Fitness Instructor. She enjoys bringing her passion for Yoga\, Barre and a freedom of expression to both teachers and students (when she is not traversing the globe).
URL:https://www.commonmarket.coop/classes-events/free-drop-in-yoga-gentle-yoga-class-for-all-2-2/2023-11-29/
LOCATION:Common Market – 7th Street\, 927 West 7th Street\, Frederick\, MD\, 21701\, United States
CATEGORIES:Community Building,Health & Wellness
ATTACH;FMTTYPE=image/jpeg:https://www.commonmarket.coop/wp-content/uploads/2022/07/Yogamour-logo.jpg
END:VEVENT
END:VCALENDAR