BEGIN:VCALENDAR
VERSION:2.0
PRODID:-//Common Market - ECPv6.15.16//NONSGML v1.0//EN
CALSCALE:GREGORIAN
METHOD:PUBLISH
X-ORIGINAL-URL:https://www.commonmarket.coop
X-WR-CALDESC:Events for Common Market
REFRESH-INTERVAL;VALUE=DURATION:PT1H
X-Robots-Tag:noindex
X-PUBLISHED-TTL:PT1H
BEGIN:VTIMEZONE
TZID:America/New_York
BEGIN:DAYLIGHT
TZOFFSETFROM:-0500
TZOFFSETTO:-0400
TZNAME:EDT
DTSTART:20220313T070000
END:DAYLIGHT
BEGIN:STANDARD
TZOFFSETFROM:-0400
TZOFFSETTO:-0500
TZNAME:EST
DTSTART:20221106T060000
END:STANDARD
BEGIN:DAYLIGHT
TZOFFSETFROM:-0500
TZOFFSETTO:-0400
TZNAME:EDT
DTSTART:20230312T070000
END:DAYLIGHT
BEGIN:STANDARD
TZOFFSETFROM:-0400
TZOFFSETTO:-0500
TZNAME:EST
DTSTART:20231105T060000
END:STANDARD
BEGIN:DAYLIGHT
TZOFFSETFROM:-0500
TZOFFSETTO:-0400
TZNAME:EDT
DTSTART:20240310T070000
END:DAYLIGHT
BEGIN:STANDARD
TZOFFSETFROM:-0400
TZOFFSETTO:-0500
TZNAME:EST
DTSTART:20241103T060000
END:STANDARD
END:VTIMEZONE
BEGIN:VEVENT
DTSTART;TZID=America/New_York:20230607T081500
DTEND;TZID=America/New_York:20230607T090000
DTSTAMP:20260425T222018
CREATED:20230515T173259Z
LAST-MODIFIED:20230801T192939Z
UID:10001100-1686125700-1686128400@www.commonmarket.coop
SUMMARY:Free Drop-In Yoga Gentle Yoga Class for All!
DESCRIPTION:This class is the perfect intro for a new student or an experienced yogi that is wanting to fill their cup with an accessible and supportive yoga practice. There will be plenty of modifications offered to meet various levels so that ALL can enjoy the benefits of yoga. The practice will include low impact movement\, seated postures and plenty of stretching. Students will become comfortable using props like blocks\, straps and even the occasional chair. These classes allow the student to leave with lots of tools to support a yoga practice in any class setting as well as a home practice. These drop-in classes are FREE and will take place in the 7th Street Common Market Community Room (enter through the cafe seating). Some mats\, blocks\, and blankets are available but feel free to bring your own! \n  \nMeet Your Teacher: Toby Schermerhorn \nToby is a 200 Hour Kripalu Trained Yoga Teacher\, a 300 Hour Sol Trained Yoga Teacher\, a Certified Freedom Barre Instructor\, and FLEX Fitness Instructor. She enjoys bringing her passion for Yoga\, Barre and a freedom of expression to both teachers and students (when she is not traversing the globe). \n 
URL:https://www.commonmarket.coop/classes-events/free-drop-in-yoga-gentle-yoga-class-for-all-2/2023-06-07/
LOCATION:Common Market – 7th Street\, 927 West 7th Street\, Frederick\, MD\, 21701\, United States
CATEGORIES:Community Building,Health & Wellness
ATTACH;FMTTYPE=image/jpeg:https://www.commonmarket.coop/wp-content/uploads/2022/07/Yogamour-logo.jpg
END:VEVENT
BEGIN:VEVENT
DTSTART;TZID=America/New_York:20230614T081500
DTEND;TZID=America/New_York:20230614T090000
DTSTAMP:20260425T222018
CREATED:20230515T173259Z
LAST-MODIFIED:20230801T192939Z
UID:10001101-1686730500-1686733200@www.commonmarket.coop
SUMMARY:Free Drop-In Yoga Gentle Yoga Class for All!
DESCRIPTION:This class is the perfect intro for a new student or an experienced yogi that is wanting to fill their cup with an accessible and supportive yoga practice. There will be plenty of modifications offered to meet various levels so that ALL can enjoy the benefits of yoga. The practice will include low impact movement\, seated postures and plenty of stretching. Students will become comfortable using props like blocks\, straps and even the occasional chair. These classes allow the student to leave with lots of tools to support a yoga practice in any class setting as well as a home practice. These drop-in classes are FREE and will take place in the 7th Street Common Market Community Room (enter through the cafe seating). Some mats\, blocks\, and blankets are available but feel free to bring your own! \n  \nMeet Your Teacher: Toby Schermerhorn \nToby is a 200 Hour Kripalu Trained Yoga Teacher\, a 300 Hour Sol Trained Yoga Teacher\, a Certified Freedom Barre Instructor\, and FLEX Fitness Instructor. She enjoys bringing her passion for Yoga\, Barre and a freedom of expression to both teachers and students (when she is not traversing the globe). \n 
URL:https://www.commonmarket.coop/classes-events/free-drop-in-yoga-gentle-yoga-class-for-all-2/2023-06-14/
LOCATION:Common Market – 7th Street\, 927 West 7th Street\, Frederick\, MD\, 21701\, United States
CATEGORIES:Community Building,Health & Wellness
ATTACH;FMTTYPE=image/jpeg:https://www.commonmarket.coop/wp-content/uploads/2022/07/Yogamour-logo.jpg
END:VEVENT
BEGIN:VEVENT
DTSTART;TZID=America/New_York:20230615T170000
DTEND;TZID=America/New_York:20230615T190000
DTSTAMP:20260425T222018
CREATED:20230410T200247Z
LAST-MODIFIED:20230410T200247Z
UID:10000713-1686848400-1686855600@www.commonmarket.coop
SUMMARY:Queer Art Social!!!
DESCRIPTION:Calling all Queer creatives!!!! Come paint\, draw\, create\, make and mingle every third Thursday of the month in our Community Room! Bring something you are working on and or start a new project! We will have a co-creative canvas going throughout the evening for those that wish to participate. This is a FREE drop-in social gathering! Music\, sparkly drinks\, tea and limited art supplies will be provided. \nThis offering is specifically for our LGBTQIA community\, our intention is to create a fun\, safe\, and empowering space for our Queer community. \nSpace is limited\, if you RSVP’d and are unable to make it please contact aharmon@commonmarket.coop so we can open more spots.
URL:https://www.commonmarket.coop/classes-events/queer-art-social-2/
LOCATION:Common Market – 7th Street\, 927 West 7th Street\, Frederick\, MD\, 21701\, United States
CATEGORIES:Art,Community Building
ATTACH;FMTTYPE=image/jpeg:https://www.commonmarket.coop/wp-content/uploads/2023/04/Rainbow-Playful-Pride-Party-Invitation-Instagram-Post-2.jpg
END:VEVENT
BEGIN:VEVENT
DTSTART;TZID=America/New_York:20230621T081500
DTEND;TZID=America/New_York:20230621T090000
DTSTAMP:20260425T222018
CREATED:20230515T173259Z
LAST-MODIFIED:20230801T192939Z
UID:10001102-1687335300-1687338000@www.commonmarket.coop
SUMMARY:Free Drop-In Yoga Gentle Yoga Class for All!
DESCRIPTION:This class is the perfect intro for a new student or an experienced yogi that is wanting to fill their cup with an accessible and supportive yoga practice. There will be plenty of modifications offered to meet various levels so that ALL can enjoy the benefits of yoga. The practice will include low impact movement\, seated postures and plenty of stretching. Students will become comfortable using props like blocks\, straps and even the occasional chair. These classes allow the student to leave with lots of tools to support a yoga practice in any class setting as well as a home practice. These drop-in classes are FREE and will take place in the 7th Street Common Market Community Room (enter through the cafe seating). Some mats\, blocks\, and blankets are available but feel free to bring your own! \n  \nMeet Your Teacher: Toby Schermerhorn \nToby is a 200 Hour Kripalu Trained Yoga Teacher\, a 300 Hour Sol Trained Yoga Teacher\, a Certified Freedom Barre Instructor\, and FLEX Fitness Instructor. She enjoys bringing her passion for Yoga\, Barre and a freedom of expression to both teachers and students (when she is not traversing the globe). \n 
URL:https://www.commonmarket.coop/classes-events/free-drop-in-yoga-gentle-yoga-class-for-all-2/2023-06-21/
LOCATION:Common Market – 7th Street\, 927 West 7th Street\, Frederick\, MD\, 21701\, United States
CATEGORIES:Community Building,Health & Wellness
ATTACH;FMTTYPE=image/jpeg:https://www.commonmarket.coop/wp-content/uploads/2022/07/Yogamour-logo.jpg
END:VEVENT
BEGIN:VEVENT
DTSTART;TZID=America/New_York:20230628T081500
DTEND;TZID=America/New_York:20230628T090000
DTSTAMP:20260425T222018
CREATED:20230515T173259Z
LAST-MODIFIED:20230801T192939Z
UID:10001103-1687940100-1687942800@www.commonmarket.coop
SUMMARY:Free Drop-In Yoga Gentle Yoga Class for All!
DESCRIPTION:This class is the perfect intro for a new student or an experienced yogi that is wanting to fill their cup with an accessible and supportive yoga practice. There will be plenty of modifications offered to meet various levels so that ALL can enjoy the benefits of yoga. The practice will include low impact movement\, seated postures and plenty of stretching. Students will become comfortable using props like blocks\, straps and even the occasional chair. These classes allow the student to leave with lots of tools to support a yoga practice in any class setting as well as a home practice. These drop-in classes are FREE and will take place in the 7th Street Common Market Community Room (enter through the cafe seating). Some mats\, blocks\, and blankets are available but feel free to bring your own! \n  \nMeet Your Teacher: Toby Schermerhorn \nToby is a 200 Hour Kripalu Trained Yoga Teacher\, a 300 Hour Sol Trained Yoga Teacher\, a Certified Freedom Barre Instructor\, and FLEX Fitness Instructor. She enjoys bringing her passion for Yoga\, Barre and a freedom of expression to both teachers and students (when she is not traversing the globe). \n 
URL:https://www.commonmarket.coop/classes-events/free-drop-in-yoga-gentle-yoga-class-for-all-2/2023-06-28/
LOCATION:Common Market – 7th Street\, 927 West 7th Street\, Frederick\, MD\, 21701\, United States
CATEGORIES:Community Building,Health & Wellness
ATTACH;FMTTYPE=image/jpeg:https://www.commonmarket.coop/wp-content/uploads/2022/07/Yogamour-logo.jpg
END:VEVENT
END:VCALENDAR